Workbook

Sheet Results for transmission
A1: Guildford & Littleton Radio Sailing — 2026 DragonFlite95 Winter Series
A2: Event Results | L2: Wind: SE 5-15 | N2: Westerly 12-22
A3: Date: | B3: 22 October 2026 | L3: P.R.O: | N3: Martin Crysell
A4: Number of boats | B4: Skipper | C4: Home Club | D4: Design | E4: Sail No. | F4: Place | G4: Race | T4: Points | U4: Discards | X4: Score
G5: 1 | H5: 2 | I5: 3 | J5: 4 | K5: 5 | L5: 6 | M5: 7 | N5: 8 | O5: 9 | P5: 10 | Q5: 11 | R5: 12 | S5: 14 | U5: D-1 | V5: D-2 | W5: D-3
A6: 1 | B6: Barrie Martin | C6: LMYC | D6: DF95 | E6: 54 | F6: 1 | G6: 1 | H6: 1 | I6: 5 | J6: 4 | K6: 2 | L6: 2 | M6: 6 | N6: 1 | T6: =SUM(G6:S6) -> 22 | U6: =IF(COUNT(G6:S6)>3,LARGE((G6:S6),1),0) -> 6 | V6: =IF(COUNT(G6:S6)>7,LARGE((G6:S6),2),0) -> 5 | W6: =IF(COUNT(G6:S6)>15,LARGE((G6:S6),3),0) -> 0 | X6: =T6-(U6+V6+W6) -> 11
A7: 2 | B7: Martin Crysell | C7: GLRS | D7: DF95 | E7: 52 | F7: 2 | G7: 3 | H7: 7 | I7: 2 | J7: 1 | K7: 5 | L7: 1 | M7: 4 | N7: 5 | T7: =SUM(G7:S7) -> 28 | U7: =IF(COUNT(G7:S7)>3,LARGE((G7:S7),1),0) -> 7 | V7: =IF(COUNT(G7:S7)>7,LARGE((G7:S7),2),0) -> 5 | W7: =IF(COUNT(G7:S7)>15,LARGE((G7:S7),3),0) -> 0 | X7: =T7-(U7+V7+W7) -> 16
A8: 3 | B8: Mike Wilkie | C8: HCMYC | D8: DF95 | E8: 995 | F8: 3 | G8: 2 | H8: 2 | I8: 3 | J8: 6 | K8: 1 | L8: 6 | M8: 7 | N8: 2 | T8: =SUM(G8:S8) -> 29 | U8: =IF(COUNT(G8:S8)>3,LARGE((G8:S8),1),0) -> 7 | V8: =IF(COUNT(G8:S8)>7,LARGE((G8:S8),2),0) -> 6 | W8: =IF(COUNT(G8:S8)>15,LARGE((G8:S8),3),0) -> 0 | X8: =T8-(U8+V8+W8) -> 16
A9: 4 | B9: Alan Viney | C9: GLRS | D9: DF95 | E9: 44 | F9: 4 | G9: 4 | H9: 3 | I9: 1 | J9: 2 | K9: 3 | L9: 4 | M9: 3 | N9: 4 | T9: =SUM(G9:S9) -> 24 | U9: =IF(COUNT(G9:S9)>3,LARGE((G9:S9),1),0) -> 4 | V9: =IF(COUNT(G9:S9)>7,LARGE((G9:S9),2),0) -> 4 | W9: =IF(COUNT(G9:S9)>15,LARGE((G9:S9),3),0) -> 0 | X9: =T9-(U9+V9+W9) -> 16
A10: 5 | B10: Bob Hayes | C10: HCMYC | D10: DF95 | E10: 152 | F10: 5 | G10: 7 | H10: 4 | I10: 4 | J10: 3 | K10: 4 | L10: 3 | M10: 2 | N10: 3 | T10: =SUM(G10:S10) -> 30 | U10: =IF(COUNT(G10:S10)>3,LARGE((G10:S10),1),0) -> 7 | V10: =IF(COUNT(G10:S10)>7,LARGE((G10:S10),2),0) -> 4 | W10: =IF(COUNT(G10:S10)>15,LARGE((G10:S10),3),0) -> 0 | X10: =T10-(U10+V10+W10) -> 19
A11: 6 | B11: Martin Rides | C11: GLRS | D11: DF95 | E11: 108 | F11: 6 | G11: 11 | H11: 5 | I11: 7 | J11: 5 | K11: 7 | L11: 11 | M11: 5 | N11: 6 | T11: =SUM(G11:S11) -> 57 | U11: =IF(COUNT(G11:S11)>3,LARGE((G11:S11),1),0) -> 11 | V11: =IF(COUNT(G11:S11)>7,LARGE((G11:S11),2),0) -> 11 | W11: =IF(COUNT(G11:S11)>15,LARGE((G11:S11),3),0) -> 0 | X11: =T11-(U11+V11+W11) -> 35
A12: 7 | B12: David Newall | C12: GLRS | D12: DF95 | E12: 22 | F12: 7 | G12: 5 | H12: 8 | I12: 6 | J12: 7 | K12: 8 | L12: 5 | M12: 7 | N12: 7 | T12: =SUM(G12:S12) -> 53 | U12: =IF(COUNT(G12:S12)>3,LARGE((G12:S12),1),0) -> 8 | V12: =IF(COUNT(G12:S12)>7,LARGE((G12:S12),2),0) -> 8 | W12: =IF(COUNT(G12:S12)>15,LARGE((G12:S12),3),0) -> 0 | X12: =T12-(U12+V12+W12) -> 37
A13: 8 | B13: Charles Wand T. | C13: GLRS | D13: DF95 | E13: 15 | F13: 8 | G13: 6 | H13: 6 | I13: 11 | J13: 11 | K13: 6 | L13: 7 | M13: 8 | N13: 8 | T13: =SUM(G13:S13) -> 63 | U13: =IF(COUNT(G13:S13)>3,LARGE((G13:S13),1),0) -> 11 | V13: =IF(COUNT(G13:S13)>7,LARGE((G13:S13),2),0) -> 11 | W13: =IF(COUNT(G13:S13)>15,LARGE((G13:S13),3),0) -> 0 | X13: =T13-(U13+V13+W13) -> 41
A14: 9 | B14: Celia Greetham | C14: LMYC | D14: DF95 | E14: 41 | F14: 9 | G14: 8 | H14: 9 | I14: 8 | J14: 8 | K14: 11 | L14: 11 | M14: 11 | N14: 11 | T14: =SUM(G14:S14) -> 77 | U14: =IF(COUNT(G14:S14)>3,LARGE((G14:S14),1),0) -> 11 | V14: =IF(COUNT(G14:S14)>7,LARGE((G14:S14),2),0) -> 11 | W14: =IF(COUNT(G14:S14)>15,LARGE((G14:S14),3),0) -> 0 | X14: =T14-(U14+V14+W14) -> 55
A15: 10 | B15: Tony Cook | C15: LDN | D15: DF95 | E15: 542 | F15: 10 | G15: 11 | H15: 11 | I15: 9 | J15: 9 | K15: 11 | L15: 8 | M15: 9 | N15: 9 | T15: =SUM(G15:S15) -> 77 | U15: =IF(COUNT(G15:S15)>3,LARGE((G15:S15),1),0) -> 11 | V15: =IF(COUNT(G15:S15)>7,LARGE((G15:S15),2),0) -> 11 | W15: =IF(COUNT(G15:S15)>15,LARGE((G15:S15),3),0) -> 0 | X15: =T15-(U15+V15+W15) -> 55
A16: 11 | B16: Mike Barnes | C16: HCMYC | D16: DF95 | E16: 585 | T16: =SUM(G16:S16) -> 0 | U16: =IF(COUNT(G16:S16)>3,LARGE((G16:S16),1),0) -> 0 | V16: =IF(COUNT(G16:S16)>7,LARGE((G16:S16),2),0) -> 0 | W16: =IF(COUNT(G16:S16)>15,LARGE((G16:S16),3),0) -> 0 | X16: =T16-(U16+V16+W16) -> 0
A17: Standings — Best 7 Events Count | E17: 03 Sep | F17: 10 Sep | G17: 17 Sep | H17: 24 Sep | I17: 01 Oct | J17: 08 Oct | K17: 15 Oct | L17: 22 Oct | V17: Qualifying points
A18: Rank | B18: Skipper | C18: Home Club | D18: Cumulative Points
A19: =RANK(V19,$V$19:$V$32,0)&IF(COUNTIF($V$19:$V$32,V19)>1,"=","") -> 1 | B19: Mike Wilkie | C19: HCMYC | D19: =SUM(E19:Q19) -> 64 | E19: 7 | F19: 8 | G19: 6 | H19: 8 | I19: 9 | J19: 7 | K19: 11 | L19: 8 | M19: 0 | N19: 0 | O19: 0 | P19: 0 | Q19: 0 | R19: 0 | S19: 0 | T19: 0 | U19: 0 | V19: =SUMPRODUCT(LARGE(E19:U19,{1,2,3,4,5,6,7})) -> 58
A20: =RANK(V20,$V$19:$V$32,0)&IF(COUNTIF($V$19:$V$32,V20)>1,"=","") -> 2 | B20: Alan Viney | C20: GLRS | D20: =SUM(E20:Q20) -> 47 | E20: 5 | F20: 7 | G20: 5 | H20: 6 | I20: 7 | J20: 0 | K20: 10 | L20: 7 | M20: 0 | N20: 0 | O20: 0 | P20: 0 | Q20: 0 | R20: 0 | S20: 0 | T20: 0 | U20: 0 | V20: =SUMPRODUCT(LARGE(E20:U20,{1,2,3,4,5,6,7})) -> 47
A21: =RANK(V21,$V$19:$V$32,0)&IF(COUNTIF($V$19:$V$32,V21)>1,"=","") -> 3 | B21: Barrie Martin | C21: LMYC | D21: =SUM(E21:Q21) -> 41 | E21: 8 | F21: 0 | G21: 0 | H21: 9 | I21: 8 | J21: 0 | K21: 6 | L21: 10 | M21: 0 | N21: 0 | O21: 0 | P21: 0 | Q21: 0 | R21: 0 | S21: 0 | T21: 0 | U21: 0 | V21: =SUMPRODUCT(LARGE(E21:U21,{1,2,3,4,5,6,7})) -> 41
A22: =RANK(V22,$V$19:$V$32,0)&IF(COUNTIF($V$19:$V$32,V22)>1,"=","") -> 4= | B22: Mike Barnes | C22: HCMYC | D22: =SUM(E22:Q22) -> 38 | E22: 6 | F22: 5 | G22: 3 | H22: 7 | I22: 6 | J22: 3 | K22: 8 | L22: 0 | M22: 0 | N22: 0 | O22: 0 | P22: 0 | Q22: 0 | R22: 0 | S22: 0 | T22: 0 | U22: 0 | V22: =SUMPRODUCT(LARGE(E22:U22,{1,2,3,4,5,6,7})) -> 38
A23: =RANK(V23,$V$19:$V$32,0)&IF(COUNTIF($V$19:$V$32,V23)>1,"=","") -> 4= | B23: Martin Crysell | C23: GLRS | D23: =SUM(E23:Q23) -> 38 | E23: 0 | F23: 4 | G23: 4 | H23: 4 | I23: 0 | J23: 8 | K23: 9 | L23: 9 | M23: 0 | N23: 0 | O23: 0 | P23: 0 | Q23: 0 | R23: 0 | S23: 0 | T23: 0 | U23: 0 | V23: =SUMPRODUCT(LARGE(E23:U23,{1,2,3,4,5,6,7})) -> 38
A24: =RANK(V24,$V$19:$V$32,0)&IF(COUNTIF($V$19:$V$32,V24)>1,"=","") -> 6 | B24: Bob Hayes | C24: HCMYC | D24: =SUM(E24:Q24) -> 34 | E24: 3 | F24: 6 | G24: 2 | H24: 0 | I24: 5 | J24: 5 | K24: 7 | L24: 6 | M24: 0 | N24: 0 | O24: 0 | P24: 0 | Q24: 0 | R24: 0 | S24: 0 | T24: 0 | U24: 0 | V24: =SUMPRODUCT(LARGE(E24:U24,{1,2,3,4,5,6,7})) -> 34
A25: =RANK(V25,$V$19:$V$32,0)&IF(COUNTIF($V$19:$V$32,V25)>1,"=","") -> 7 | B25: David Newall | C25: GLRS | D25: =SUM(E25:Q25) -> 20 | E25: 0 | F25: 2 | G25: 0 | H25: 3 | I25: 4 | J25: 2 | K25: 5 | L25: 4 | M25: 0 | N25: 0 | O25: 0 | P25: 0 | Q25: 0 | R25: 0 | S25: 0 | T25: 0 | U25: 0 | V25: =SUMPRODUCT(LARGE(E25:U25,{1,2,3,4,5,6,7})) -> 20
A26: =RANK(V26,$V$19:$V$32,0)&IF(COUNTIF($V$19:$V$32,V26)>1,"=","") -> 8= | B26: Johnny Lyell | C26: GLRS | D26: =SUM(E26:Q26) -> 14 | E26: 1 | F26: 1 | G26: 0 | H26: 1 | I26: 3 | J26: 4 | K26: 4 | L26: 0 | M26: 0 | N26: 0 | O26: 0 | P26: 0 | Q26: 0 | R26: 0 | S26: 0 | T26: 0 | U26: 0 | V26: =SUMPRODUCT(LARGE(E26:U26,{1,2,3,4,5,6,7})) -> 14
A27: =RANK(V27,$V$19:$V$32,0)&IF(COUNTIF($V$19:$V$32,V27)>1,"=","") -> 8= | B27: Charles Wand T. | C27: GLRS | D27: =SUM(E27:Q27) -> 14 | E27: 0 | F27: 0 | G27: 1 | H27: 0 | I27: 2 | J27: 6 | K27: 2 | L27: 3 | M27: 0 | N27: 0 | O27: 0 | P27: 0 | Q27: 0 | R27: 0 | S27: 0 | T27: 0 | U27: 0 | V27: =SUMPRODUCT(LARGE(E27:U27,{1,2,3,4,5,6,7})) -> 14
A28: =RANK(V28,$V$19:$V$32,0)&IF(COUNTIF($V$19:$V$32,V28)>1,"=","") -> 10 | B28: Martin Rides | C28: GLRS | D28: =SUM(E28:Q28) -> 10 | E28: 0 | F28: 0 | G28: 0 | H28: 0 | I28: 1 | J28: 1 | K28: 3 | L28: 5 | M28: 0 | N28: 0 | O28: 0 | P28: 0 | Q28: 0 | R28: 0 | S28: 0 | T28: 0 | U28: 0 | V28: =SUMPRODUCT(LARGE(E28:U28,{1,2,3,4,5,6,7})) -> 10
A29: =RANK(V29,$V$19:$V$32,0)&IF(COUNTIF($V$19:$V$32,V29)>1,"=","") -> 11= | B29: David Biddle | C29: HCMYC | D29: =SUM(E29:Q29) -> 7 | E29: 4 | F29: 3 | G29: 0 | H29: 0 | I29: 0 | J29: 0 | K29: 0 | L29: 0 | M29: 0 | N29: 0 | O29: 0 | P29: 0 | Q29: 0 | R29: 0 | S29: 0 | T29: 0 | U29: 0 | V29: =SUMPRODUCT(LARGE(E29:U29,{1,2,3,4,5,6,7})) -> 7
A30: =RANK(V30,$V$19:$V$32,0)&IF(COUNTIF($V$19:$V$32,V30)>1,"=","") -> 11= | B30: Celia Greetham | C30: LMYC | D30: =SUM(E30:Q30) -> 7 | E30: 2 | F30: 0 | G30: 0 | H30: 2 | I30: 0 | J30: 0 | K30: 1 | L30: 2 | M30: 0 | N30: 0 | O30: 0 | P30: 0 | Q30: 0 | R30: 0 | S30: 0 | T30: 0 | U30: 0 | V30: =SUMPRODUCT(LARGE(E30:U30,{1,2,3,4,5,6,7})) -> 7
... A32: =RANK(V32,$V$19:$V$32,0)&IF(COUNTIF($V$19:$V$32,V32)>1,"=","") -> 14 | B32: Tony Cook | C32: GLRS | D32: =SUM(E32:Q32) -> 1 | E32: 0 | F32: 0 | G32: 0 | H32: 0 | I32: 0 | J32: 0 | K32: 0 | L32: 1 | M32: 0 | N32: 0 | O32: 0 | P32: 0 | Q32: 0 | R32: 0 | S32: 0 | T32: 0 | U32: 0 | V32: =SUMPRODUCT(LARGE(E32:U32,{1,2,3,4,5,6,7})) -> 1
A33: Scoring: 1 point for starting each event + 1 additional point for each skipper beaten. The series result counts the 7 highest-scoring events.

Sheet Series Standings
A1: 2026 DF95 Summer Series — Standings
A2: Formula-driven summary — best 7 event scores count
A4: Series Winner | B4: Qualifying Points | C4: Events Counted | D4: Club
A5: =INDEX($B$8:$B$21,MATCH(MAX($P$8:$P$21),$P$8:$P$21,0)) -> Mike Wilkie | B5: =MAX($P$8:$P$21) -> 58 | C5: =MIN(7,COUNTIF($E$7:$O$7,">0")) -> 0 | D5: =INDEX($C$8:$C$21,MATCH(MAX($P$8:$P$21),$P$8:$P$21,0)) -> HCMYC
A7: Rank | B7: Skipper | C7: Home Club | D7: Cumulative Points | E7: 09 Apr | F7: 16 Apr | G7: 14 May | H7: 21 May | I7: 28 May | J7: 04 Jun | K7: 18 Jun | L7: 02 Jul | M7: 16 Jul | N7: 23 Jul | O7: 30 Jul | P7: Qualifying Points
A8: =RANK(P8,$P$8:$P$21,0)&IF(COUNTIF($P$8:$P$21,P8)>1,"=","") -> 1 | B8: ='Results for transmission'!B19 -> Mike Wilkie | C8: ='Results for transmission'!C19 -> HCMYC | D8: ='Results for transmission'!D19 -> 64 | E8: ='Results for transmission'!E19 -> 7 | F8: ='Results for transmission'!F19 -> 8 | G8: ='Results for transmission'!G19 -> 6 | H8: ='Results for transmission'!H19 -> 8 | I8: ='Results for transmission'!I19 -> 9 | J8: ='Results for transmission'!J19 -> 7 | K8: ='Results for transmission'!L19 -> 8 | L8: ='Results for transmission'!N19 -> 0 | M8: ='Results for transmission'!O19 -> 0 | N8: ='Results for transmission'!P19 -> 0 | O8: ='Results for transmission'!Q19 -> 0 | P8: ='Results for transmission'!V19 -> 58
A9: =RANK(P9,$P$8:$P$21,0)&IF(COUNTIF($P$8:$P$21,P9)>1,"=","") -> 2 | B9: ='Results for transmission'!B20 -> Alan Viney | C9: ='Results for transmission'!C20 -> GLRS | D9: ='Results for transmission'!D20 -> 47 | E9: ='Results for transmission'!E20 -> 5 | F9: ='Results for transmission'!F20 -> 7 | G9: ='Results for transmission'!G20 -> 5 | H9: ='Results for transmission'!H20 -> 6 | I9: ='Results for transmission'!I20 -> 7 | J9: ='Results for transmission'!J20 -> 0 | K9: ='Results for transmission'!L20 -> 7 | L9: ='Results for transmission'!N20 -> 0 | M9: ='Results for transmission'!O20 -> 0 | N9: ='Results for transmission'!P20 -> 0 | O9: ='Results for transmission'!Q20 -> 0 | P9: ='Results for transmission'!V20 -> 47
A10: =RANK(P10,$P$8:$P$21,0)&IF(COUNTIF($P$8:$P$21,P10)>1,"=","") -> 3 | B10: ='Results for transmission'!B21 -> Barrie Martin | C10: ='Results for transmission'!C21 -> LMYC | D10: ='Results for transmission'!D21 -> 41 | E10: ='Results for transmission'!E21 -> 8 | F10: ='Results for transmission'!F21 -> 0 | G10: ='Results for transmission'!G21 -> 0 | H10: ='Results for transmission'!H21 -> 9 | I10: ='Results for transmission'!I21 -> 8 | J10: ='Results for transmission'!J21 -> 0 | K10: ='Results for transmission'!L21 -> 10 | L10: ='Results for transmission'!N21 -> 0 | M10: ='Results for transmission'!O21 -> 0 | N10: ='Results for transmission'!P21 -> 0 | O10: ='Results for transmission'!Q21 -> 0 | P10: ='Results for transmission'!V21 -> 41
A11: =RANK(P11,$P$8:$P$21,0)&IF(COUNTIF($P$8:$P$21,P11)>1,"=","") -> 4= | B11: ='Results for transmission'!B22 -> Mike Barnes | C11: ='Results for transmission'!C22 -> HCMYC | D11: ='Results for transmission'!D22 -> 38 | E11: ='Results for transmission'!E22 -> 6 | F11: ='Results for transmission'!F22 -> 5 | G11: ='Results for transmission'!G22 -> 3 | H11: ='Results for transmission'!H22 -> 7 | I11: ='Results for transmission'!I22 -> 6 | J11: ='Results for transmission'!J22 -> 3 | K11: ='Results for transmission'!L22 -> 0 | L11: ='Results for transmission'!N22 -> 0 | M11: ='Results for transmission'!O22 -> 0 | N11: ='Results for transmission'!P22 -> 0 | O11: ='Results for transmission'!Q22 -> 0 | P11: ='Results for transmission'!V22 -> 38
A12: =RANK(P12,$P$8:$P$21,0)&IF(COUNTIF($P$8:$P$21,P12)>1,"=","") -> 4= | B12: ='Results for transmission'!B23 -> Martin Crysell | C12: ='Results for transmission'!C23 -> GLRS | D12: ='Results for transmission'!D23 -> 38 | E12: ='Results for transmission'!E23 -> 0 | F12: ='Results for transmission'!F23 -> 4 | G12: ='Results for transmission'!G23 -> 4 | H12: ='Results for transmission'!H23 -> 4 | I12: ='Results for transmission'!I23 -> 0 | J12: ='Results for transmission'!J23 -> 8 | K12: ='Results for transmission'!L23 -> 9 | L12: ='Results for transmission'!N23 -> 0 | M12: ='Results for transmission'!O23 -> 0 | N12: ='Results for transmission'!P23 -> 0 | O12: ='Results for transmission'!Q23 -> 0 | P12: ='Results for transmission'!V23 -> 38
A13: =RANK(P13,$P$8:$P$21,0)&IF(COUNTIF($P$8:$P$21,P13)>1,"=","") -> 6 | B13: ='Results for transmission'!B24 -> Bob Hayes | C13: ='Results for transmission'!C24 -> HCMYC | D13: ='Results for transmission'!D24 -> 34 | E13: ='Results for transmission'!E24 -> 3 | F13: ='Results for transmission'!F24 -> 6 | G13: ='Results for transmission'!G24 -> 2 | H13: ='Results for transmission'!H24 -> 0 | I13: ='Results for transmission'!I24 -> 5 | J13: ='Results for transmission'!J24 -> 5 | K13: ='Results for transmission'!L24 -> 6 | L13: ='Results for transmission'!N24 -> 0 | M13: ='Results for transmission'!O24 -> 0 | N13: ='Results for transmission'!P24 -> 0 | O13: ='Results for transmission'!Q24 -> 0 | P13: ='Results for transmission'!V24 -> 34
A14: =RANK(P14,$P$8:$P$21,0)&IF(COUNTIF($P$8:$P$21,P14)>1,"=","") -> 7 | B14: ='Results for transmission'!B25 -> David Newall | C14: ='Results for transmission'!C25 -> GLRS | D14: ='Results for transmission'!D25 -> 20 | E14: ='Results for transmission'!E25 -> 0 | F14: ='Results for transmission'!F25 -> 2 | G14: ='Results for transmission'!G25 -> 0 | H14: ='Results for transmission'!H25 -> 3 | I14: ='Results for transmission'!I25 -> 4 | J14: ='Results for transmission'!J25 -> 2 | K14: ='Results for transmission'!L25 -> 4 | L14: ='Results for transmission'!N25 -> 0 | M14: ='Results for transmission'!O25 -> 0 | N14: ='Results for transmission'!P25 -> 0 | O14: ='Results for transmission'!Q25 -> 0 | P14: ='Results for transmission'!V25 -> 20
A15: =RANK(P15,$P$8:$P$21,0)&IF(COUNTIF($P$8:$P$21,P15)>1,"=","") -> 8= | B15: ='Results for transmission'!B26 -> Johnny Lyell | C15: ='Results for transmission'!C26 -> GLRS | D15: ='Results for transmission'!D26 -> 14 | E15: ='Results for transmission'!E26 -> 1 | F15: ='Results for transmission'!F26 -> 1 | G15: ='Results for transmission'!G26 -> 0 | H15: ='Results for transmission'!H26 -> 1 | I15: ='Results for transmission'!I26 -> 3 | J15: ='Results for transmission'!J26 -> 4 | K15: ='Results for transmission'!L26 -> 0 | L15: ='Results for transmission'!N26 -> 0 | M15: ='Results for transmission'!O26 -> 0 | N15: ='Results for transmission'!P26 -> 0 | O15: ='Results for transmission'!Q26 -> 0 | P15: ='Results for transmission'!V26 -> 14
A16: =RANK(P16,$P$8:$P$21,0)&IF(COUNTIF($P$8:$P$21,P16)>1,"=","") -> 8= | B16: ='Results for transmission'!B27 -> Charles Wand T. | C16: ='Results for transmission'!C27 -> GLRS | D16: ='Results for transmission'!D27 -> 14 | E16: ='Results for transmission'!E27 -> 0 | F16: ='Results for transmission'!F27 -> 0 | G16: ='Results for transmission'!G27 -> 1 | H16: ='Results for transmission'!H27 -> 0 | I16: ='Results for transmission'!I27 -> 2 | J16: ='Results for transmission'!J27 -> 6 | K16: ='Results for transmission'!L27 -> 3 | L16: ='Results for transmission'!N27 -> 0 | M16: ='Results for transmission'!O27 -> 0 | N16: ='Results for transmission'!P27 -> 0 | O16: ='Results for transmission'!Q27 -> 0 | P16: ='Results for transmission'!V27 -> 14
A17: =RANK(P17,$P$8:$P$21,0)&IF(COUNTIF($P$8:$P$21,P17)>1,"=","") -> 10 | B17: ='Results for transmission'!B28 -> Martin Rides | C17: ='Results for transmission'!C28 -> GLRS | D17: ='Results for transmission'!D28 -> 10 | E17: ='Results for transmission'!E28 -> 0 | F17: ='Results for transmission'!F28 -> 0 | G17: ='Results for transmission'!G28 -> 0 | H17: ='Results for transmission'!H28 -> 0 | I17: ='Results for transmission'!I28 -> 1 | J17: ='Results for transmission'!J28 -> 1 | K17: ='Results for transmission'!L28 -> 5 | L17: ='Results for transmission'!N28 -> 0 | M17: ='Results for transmission'!O28 -> 0 | N17: ='Results for transmission'!P28 -> 0 | O17: ='Results for transmission'!Q28 -> 0 | P17: ='Results for transmission'!V28 -> 10
A18: =RANK(P18,$P$8:$P$21,0)&IF(COUNTIF($P$8:$P$21,P18)>1,"=","") -> 11= | B18: ='Results for transmission'!B29 -> David Biddle | C18: ='Results for transmission'!C29 -> HCMYC | D18: ='Results for transmission'!D29 -> 7 | E18: ='Results for transmission'!E29 -> 4 | F18: ='Results for transmission'!F29 -> 3 | G18: ='Results for transmission'!G29 -> 0 | H18: ='Results for transmission'!H29 -> 0 | I18: ='Results for transmission'!I29 -> 0 | J18: ='Results for transmission'!J29 -> 0 | K18: ='Results for transmission'!L29 -> 0 | L18: ='Results for transmission'!N29 -> 0 | M18: ='Results for transmission'!O29 -> 0 | N18: ='Results for transmission'!P29 -> 0 | O18: ='Results for transmission'!Q29 -> 0 | P18: ='Results for transmission'!V29 -> 7
A19: =RANK(P19,$P$8:$P$21,0)&IF(COUNTIF($P$8:$P$21,P19)>1,"=","") -> 11= | B19: ='Results for transmission'!B30 -> Celia Greetham | C19: ='Results for transmission'!C30 -> LMYC | D19: ='Results for transmission'!D30 -> 7 | E19: ='Results for transmission'!E30 -> 2 | F19: ='Results for transmission'!F30 -> 0 | G19: ='Results for transmission'!G30 -> 0 | H19: ='Results for transmission'!H30 -> 2 | I19: ='Results for transmission'!I30 -> 0 | J19: ='Results for transmission'!J30 -> 0 | K19: ='Results for transmission'!L30 -> 2 | L19: ='Results for transmission'!N30 -> 0 | M19: ='Results for transmission'!O30 -> 0 | N19: ='Results for transmission'!P30 -> 0 | O19: ='Results for transmission'!Q30 -> 0 | P19: ='Results for transmission'!V30 -> 7
... A21: =RANK(P21,$P$8:$P$21,0)&IF(COUNTIF($P$8:$P$21,P21)>1,"=","") -> 14 | B21: ='Results for transmission'!B32 -> Tony Cook | C21: ='Results for transmission'!C32 -> GLRS | D21: ='Results for transmission'!D32 -> 1 | E21: ='Results for transmission'!E32 -> 0 | F21: ='Results for transmission'!F32 -> 0 | G21: ='Results for transmission'!G32 -> 0 | H21: ='Results for transmission'!H32 -> 0 | I21: ='Results for transmission'!I32 -> 0 | J21: ='Results for transmission'!J32 -> 0 | K21: ='Results for transmission'!L32 -> 1 | L21: ='Results for transmission'!N32 -> 0 | M21: ='Results for transmission'!O32 -> 0 | N21: ='Results for transmission'!P32 -> 0 | O21: ='Results for transmission'!Q32 -> 0 | P21: ='Results for transmission'!V32 -> 1

Sheet Series Setup
A1: 2026 DF95 Summer Series — Rules & Event Schedule
A3: Class | B3: DragonFlite 95 | D3: Event | E3: Status | F3: Date
A4: Series | B4: 2026 Summer Series | D4: 1 | E4: Held | F4: 46121
A5: Scoring rule | B5: 1 point for entering + 1 point per skipper beaten | D5: 2 | E5: Held | F5: 46128
A6: Counting rule | B6: Best 7 event scores count | D6: 3 | E6: Held | F6: 46156
A7: Cancelled events | B7: Count as zero and do not reduce the 10-event allowance | D7: 4 | E7: Held | F7: 46163
D8: 5 | E8: Held | F8: 46170
D9: 6 | E9: Held | F9: 46177
D10: 7 | E10: Cancelled | F10: 46184
D11: 8 | E11: Held | F11: 46191
D12: 9 | E12: Cancelled | F12: 46198
D13: 10 | E13: Held | F13: 46205
D14: 11 | E14: Held | F14: 46219
D15: 12 | E15: Held | F15: 46226
D16: 13 | E16: Held | F16: 46233
